BEGIN:VCALENDAR
VERSION:2.0
PRODID:-//https://fzcf.de///NONSGML kigkonsult.se iCalcreator 2.10.15//
METHOD:PUBLISH
BEGIN:VEVENT
UID:20260419T133813UTC-5524SsZ1HV@https://fzcf.de/
DTSTAMP:20260419T133813Z
DESCRIPTION: https://fzcf.de/event/175-theater-abtsroda
DTSTART;VALUE=DATE:20200425
LOCATION:Theater in Abtsroda (Abtsroda\, 36163 Poppenhausen\, Germany)
SUMMARY:Theater Abtsroda
URL:https://fzcf.de/event/175-theater-abtsroda
END:VEVENT
END:VCALENDAR
